BEGIN:VCALENDAR
VERSION:2.0
PRODID:-//Intand Corporation//Tandem//EN
METHOD:PUBLISH
BEGIN:VEVENT
DTSTAMP:20260425T201041Z
DTSTART:20260425T160000Z
DTEND:20260425T170000Z
TRANSP:TRANSPARENT
PRIORITY:0
SUMMARY:SK Track @ Federal Way
LOCATION:FEDERAL WAY SENIOR HIGH SCHOOL
DESCRIPTION:Depart: 7:00 am\n\nGroups:\nSKHS Track & Field (Away)\n\nSchoo
 ls:\nSouth Kitsap High School (Away)\n\nLocation:\nFEDERAL WAY SENIOR HIGH
  SCHOOL\n\n
URL;VALUE=URI:http://skhsathletics.skitsap.tandem.co/index.php?type=view&a
 ction=event&id=166394
CREATED:20260421T173828Z
LAST-MODIFIED:20260421T173828Z
UID:event-166394-skitsap@intand.com
END:VEVENT
END:VCALENDAR
